BEGIN:VCALENDAR
VERSION:2.0
PRODID:-//Sanderen - ECPv6.10.2//NONSGML v1.0//EN
CALSCALE:GREGORIAN
METHOD:PUBLISH
X-ORIGINAL-URL:https://sanderen.com
X-WR-CALDESC:Eventi per Sanderen
REFRESH-INTERVAL;VALUE=DURATION:PT1H
X-Robots-Tag:noindex
X-PUBLISHED-TTL:PT1H
BEGIN:VTIMEZONE
TZID:Europe/Rome
BEGIN:DAYLIGHT
TZOFFSETFROM:+0100
TZOFFSETTO:+0200
TZNAME:CEST
DTSTART:20220327T010000
END:DAYLIGHT
BEGIN:STANDARD
TZOFFSETFROM:+0200
TZOFFSETTO:+0100
TZNAME:CET
DTSTART:20221030T010000
END:STANDARD
BEGIN:DAYLIGHT
TZOFFSETFROM:+0100
TZOFFSETTO:+0200
TZNAME:CEST
DTSTART:20230326T010000
END:DAYLIGHT
BEGIN:STANDARD
TZOFFSETFROM:+0200
TZOFFSETTO:+0100
TZNAME:CET
DTSTART:20231029T010000
END:STANDARD
BEGIN:DAYLIGHT
TZOFFSETFROM:+0100
TZOFFSETTO:+0200
TZNAME:CEST
DTSTART:20240331T010000
END:DAYLIGHT
BEGIN:STANDARD
TZOFFSETFROM:+0200
TZOFFSETTO:+0100
TZNAME:CET
DTSTART:20241027T010000
END:STANDARD
END:VTIMEZONE
BEGIN:VEVENT
DTSTART;TZID=Europe/Rome:20220827T180000
DTEND;TZID=Europe/Rome:20220827T190000
DTSTAMP:20260421T000613
CREATED:20221011T095243Z
LAST-MODIFIED:20221011T095243Z
UID:113982-1661623200-1661626800@sanderen.com
SUMMARY:Pre-British al Food Film Fest Bergamo
DESCRIPTION:Pre-British in concorso al Food Film Festival di Bergamo. \n\n\n\nÈ la storia di un vino dimenticato del passato e di quattro viticoltori che lo hanno reinterpretato per il presente. Questo film è un viaggio nella Sicilia occidentale\, tra botti di legno tramandate di padre in figlio\, uve raccolte a pochi passi dal mare e vignaioli che rivelano: “il nostro vero tesoro è il vento”.
URL:https://sanderen.com/appuntamento/pre-british-al-food-film-fest-bergamo/
LOCATION:Piazza Mascheroni\, Piazza Mascheroni\, Bergamo Alta
CATEGORIES:Pre-British
ATTACH;FMTTYPE=image/jpeg:https://sanderen.com/wp-content/uploads/2022/10/Food-Film-Fest.jpg
END:VEVENT
BEGIN:VEVENT
DTSTART;TZID=Europe/Rome:20221007T193000
DTEND;TZID=Europe/Rome:20221007T220000
DTSTAMP:20260421T000613
CREATED:20221002T164836Z
LAST-MODIFIED:20221010T145732Z
UID:113782-1665171000-1665180000@sanderen.com
SUMMARY:Pre-British con AIS Taormina
DESCRIPTION:[vc_row][vc_column width=”1/1″][vc_column_text] \n\n\n\n\n\nPre-British sarà ospite di AIS Taormina per una serata con proiezione e degustazione. Modera Gioele Micali. \nIntervengono \n\nAndrea Mignòlo\nVincenzo Angileri\nPierpaolo Badalucco\nNino Barraco\nRenato De Bartoli\n\nIn degustazione \n\nNumero 73\nPipa 3/4\nAltogrado\nVecchio Samperi\n\n  \n[/vc_column_text][/vc_column][/vc_row][vc_row][vc_column width=”1/1″][vc_single_image media=”113957″ media_width_percent=”100″ uncode_shortcode_id=”968940″][/vc_column][/vc_row]
URL:https://sanderen.com/appuntamento/pre-british-con-ais-taormina/
LOCATION:Cinema Vittoria\, Strada Statale 114 Orientale Sicula\, 541\, Alì Terme\, (ME)\, 98021\, Italia
CATEGORIES:Pre-British
ATTACH;FMTTYPE=image/jpeg:https://sanderen.com/wp-content/uploads/2022/02/image-scaled.jpeg
ORGANIZER;CN="AIS Taormina":MAILTO:aistaormina@aissicilia.com
END:VEVENT
BEGIN:VEVENT
DTSTART;TZID=Europe/Rome:20221022T170000
DTEND;TZID=Europe/Rome:20221022T183000
DTSTAMP:20260421T000613
CREATED:20221010T130705Z
LAST-MODIFIED:20221010T131018Z
UID:113885-1666458000-1666463400@sanderen.com
SUMMARY:Pre-British: proiezione con Cineteca Milano
DESCRIPTION:Proiezione del film Pre-British al cinema Arlecchino in collaborazione con Cineteca Milano. Al termine della proiezione aperitivo con degustazione del vino Pre-British per tutti i presenti. \nIntervengono \n\nAndrea Mignòlo\nPierpaolo Badalucco\nSebio De Bartoli
URL:https://sanderen.com/appuntamento/pre-british-proiezione-con-cineteca-milano/
LOCATION:Cinema Arlecchino\, Via San Pietro All'Orto\, 9\, Milano\, 20121
CATEGORIES:Pre-British
ATTACH;FMTTYPE=image/jpeg:https://sanderen.com/wp-content/uploads/2022/02/image-scaled.jpeg
END:VEVENT
BEGIN:VEVENT
DTSTART;TZID=Europe/Rome:20221024T170000
DTEND;TZID=Europe/Rome:20221024T203000
DTSTAMP:20260421T000613
CREATED:20221010T133924Z
LAST-MODIFIED:20221010T142841Z
UID:113903-1666630800-1666643400@sanderen.com
SUMMARY:Pre-British per aspettando The Wine Revolution
DESCRIPTION:The Wine Revolution in collaborazione con Sanderen presenta Pre-British\, un film di Andrea Mignolo. Saranno presenti il regista e i vignaioli Pierpaolo Badalucco e Sebio De Bartoli. Alla proiezione seguirà la degustazione conviviale  presso La Cereria\, enoteca con cucina. Modera Paolo Cogurno.\n\nIntervengono\n\nAndrea Mignòlo\nPierpaolo Badalucco\nSebio De Bartoli\n\nDopo la proiezione la serata proseguirà presso La Cereria\, Via Senatore Nicola Dallorso\, 19\, 16043 Chiavari (GE).
URL:https://sanderen.com/appuntamento/pre-british-per-aspettando-the-wine-revolution/
LOCATION:Cinema Mignon\, Via Martiri della Liberazione\, 131\, Chiavari\, (GE)\, 16043
CATEGORIES:Pre-British
ATTACH;FMTTYPE=image/jpeg:https://sanderen.com/wp-content/uploads/2022/02/image-scaled.jpeg
END:VEVENT
BEGIN:VEVENT
DTSTART;TZID=Europe/Rome:20221030T160000
DTEND;TZID=Europe/Rome:20221030T170000
DTSTAMP:20260421T000613
CREATED:20221010T141320Z
LAST-MODIFIED:20221010T141357Z
UID:113913-1667145600-1667149200@sanderen.com
SUMMARY:Pre-British a Vini di vignaioli
DESCRIPTION:[vc_row][vc_column width=”1/1″][vc_column_text uncode_shortcode_id=”107212″]Saremo ospiti di Vini di vignaioli\, il salone che da 21 anni riunisce i vignaioli che difendono il loro territorio e la loro cultura. La proiezione del film Pre-British è prevista domenica 30 ottobre alle 16:00. \nIntervengono \n\nAndrea Mignòlo\nPierpaolo Badalucco\n\n[/vc_column_text][/vc_column][/vc_row][vc_row][vc_column width=”1/1″][vc_button button_color=”accent” border_width=”0″ link=”url:https%3A%2F%2Fvinidivignaioli.com|title:Biglietti|target:_blank” uncode_shortcode_id=”280496″ button_color_type=”uncode-palette”]Biglietti[/vc_button][vc_single_image media=”113927″ media_width_percent=”100″ uncode_shortcode_id=”150011″][/vc_column][/vc_row]
URL:https://sanderen.com/appuntamento/pre-british-a-vini-di-vignaioli/
LOCATION:Foro 2000\, Via Giuseppe di Vittorio\, 7\, Fornovo di Taro\, (PR)\, 43045
CATEGORIES:Pre-British
ATTACH;FMTTYPE=image/jpeg:https://sanderen.com/wp-content/uploads/2022/02/image-scaled.jpeg
END:VEVENT
BEGIN:VEVENT
DTSTART;TZID=Europe/Rome:20221112T150000
DTEND;TZID=Europe/Rome:20221112T230000
DTSTAMP:20260421T000613
CREATED:20221010T144244Z
LAST-MODIFIED:20221010T144512Z
UID:113940-1668265200-1668294000@sanderen.com
SUMMARY:Pre-British a Vini Selvaggi
DESCRIPTION:[vc_row][vc_column width=”1/1″][vc_column_text uncode_shortcode_id=”190415″]Il 12 novembre saremo ospiti di Vini Selvaggi\, la fiera indipendente del vino naturale. Interviene Andrea Mignolo. \nIl format di Vini Selvaggi prevede un evento di inaugurazione che si terrà sabato 12 novembre con dibattiti\, degustazioni guidate\, proiezioni di film\, ma anche possibilità di ristorazione ed assaggi di vini.  Non mancheranno intrattenimento musicale e visioni d’arte ed espositori a completare quella che si prefigura come una bellissima festa volta alla celebrazione del vino naturale. \nNei giorni Domenica 13 e Lunedì 14 Novembre dalle 12:00 alle 20:00 appuntamento con la Degustazione delle Cantine di Italia\, Spagna\, Francia\, Slovenia\, Germania.[/vc_column_text][/vc_column][/vc_row][vc_row][vc_column width=”1/1″][vc_button button_color=”accent” border_width=”0″ link=”url:https%3A%2F%2Fviniselvaggi.com|title:Biglietti|target:_blank” button_color_type=”uncode-palette” uncode_shortcode_id=”611411″]Biglietti[/vc_button][/vc_column][/vc_row][vc_row][vc_column width=”1/1″][vc_single_image media=”113945″ media_width_percent=”100″ uncode_shortcode_id=”176572″][/vc_column][/vc_row]
URL:https://sanderen.com/appuntamento/pre-british-a-vini-selvaggi/
LOCATION:Castello di Sannicandro\, Piazza Castello\, Sannicandro di Bari\, (BA)\, 70028
CATEGORIES:Pre-British
ATTACH;FMTTYPE=image/jpeg:https://sanderen.com/wp-content/uploads/2022/02/image-scaled.jpeg
END:VEVENT
BEGIN:VEVENT
DTSTART;TZID=Europe/Rome:20221118T190000
DTEND;TZID=Europe/Rome:20221118T220000
DTSTAMP:20260421T000613
CREATED:20221010T145459Z
LAST-MODIFIED:20221010T145459Z
UID:113950-1668798000-1668808800@sanderen.com
SUMMARY:Pre-British con AIS Verbania
DESCRIPTION:Saremo ospiti di AIS Verbania per una serata Pre-British con proiezione e degustazione. \nIntervengono \n\nAndrea Mignòlo\nPierpaolo Badalucco\nSebio De Bartoli\n\nVini in degustazione \n\nNumero 73\nPipa 3/4\nAltogrado\nVecchio Samperi
URL:https://sanderen.com/appuntamento/pre-british-con-ais-verbania/
LOCATION:Grand Hotel Des Iles Borromee\, Corso Umberto I\, 67\, Stresa\, (VB)\, 28838
CATEGORIES:Pre-British
ATTACH;FMTTYPE=image/jpeg:https://sanderen.com/wp-content/uploads/2022/02/image-scaled.jpeg
END:VEVENT
BEGIN:VEVENT
DTSTART;TZID=Europe/Rome:20221204T110000
DTEND;TZID=Europe/Rome:20221204T200000
DTSTAMP:20260421T000613
CREATED:20221204T111059Z
LAST-MODIFIED:20221204T111059Z
UID:114313-1670151600-1670184000@sanderen.com
SUMMARY:Pre-British a Nizza
DESCRIPTION:Il 4 dicembre saremo presenti alla manifestazione “The Vigneron is Present” con la proiezione di Pre-British.
URL:https://sanderen.com/appuntamento/pre-british-a-nizza/
LOCATION:Le Dojo\, 22 BIS RUE STALINGRAD\, Nice\, Francia
CATEGORIES:Pre-British
ATTACH;FMTTYPE=image/jpeg:https://sanderen.com/wp-content/uploads/2022/12/Pre-British-France-Nice.jpg
END:VEVENT
BEGIN:VEVENT
DTSTART;TZID=Europe/Rome:20221211T110000
DTEND;TZID=Europe/Rome:20221211T180000
DTSTAMP:20260421T000613
CREATED:20221204T111432Z
LAST-MODIFIED:20221204T111432Z
UID:114321-1670756400-1670781600@sanderen.com
SUMMARY:Pre-British a Vini di vignaioli Paris
DESCRIPTION:Proiezione di Pre-British durante Vini di vignaioli a Parigi.
URL:https://sanderen.com/appuntamento/pre-british-a-vini-di-vignaioli-paris/
LOCATION:Le palais de la Femme\, 94\, rue de Charonne\, Paris\, Francia
CATEGORIES:Pre-British
ATTACH;FMTTYPE=image/jpeg:https://sanderen.com/wp-content/uploads/2022/12/Pre-British-Vini-di-vignaioli-Parigi.jpg
ORGANIZER;CN="Vini di vignaioli":MAILTO:info@vinidivignaioli.com
END:VEVENT
BEGIN:VEVENT
DTSTART;TZID=Europe/Rome:20230404T193000
DTEND;TZID=Europe/Rome:20230404T220000
DTSTAMP:20260421T000613
CREATED:20230309T105415Z
LAST-MODIFIED:20230309T105415Z
UID:114559-1680636600-1680645600@sanderen.com
SUMMARY:Pre-British con ONAV Modena
DESCRIPTION:Saremo ospiti di ONAV Modena per una serata Pre-British con proiezione e degustazione. \nIntervengono \n\nAndrea Mignòlo\nPierpaolo Badalucco\nSebio De Bartoli\nNino Barraco\n\nVini in degustazione \n\nNumero 73\nPipa 3/4\nAltogrado\nVecchio Samperi
URL:https://sanderen.com/appuntamento/pre-british-con-onav-modena/
LOCATION:ONAV Modena\, via Pietro Bembo 36\, Modena\, 41123\, Italia
CATEGORIES:Pre-British,Proiezione + degustazione
ATTACH;FMTTYPE=image/jpeg:https://sanderen.com/wp-content/uploads/2022/02/image-scaled.jpeg
END:VEVENT
BEGIN:VEVENT
DTSTART;TZID=Europe/Rome:20230512T200000
DTEND;TZID=Europe/Rome:20230512T220000
DTSTAMP:20260421T000613
CREATED:20230309T104624Z
LAST-MODIFIED:20230411T160233Z
UID:114551-1683921600-1683928800@sanderen.com
SUMMARY:Pre-British con AIS Murgia
DESCRIPTION:Saremo ospiti di AIS Murgia per una serata Pre-British con proiezione e degustazione. Giuseppe Baldassarre-Consigliere Nazionale AIS e docente- guiderà la degustazione dei vini protagonisti del film. Interviene Andrea Mignòlo. \nVini in degustazione \n\nNumero 73\nPipa 3/4\nAltogrado\nVecchio Samperi
URL:https://sanderen.com/appuntamento/pre-british-con-ais-murgia/
LOCATION:D’Aragona Hotel e Spa\, Via S. Donato\, 5\, Conversano\, 70014\, Italia
CATEGORIES:Pre-British,Proiezione + degustazione
ATTACH;FMTTYPE=image/jpeg:https://sanderen.com/wp-content/uploads/2022/02/image-scaled.jpeg
END:VEVENT
BEGIN:VEVENT
DTSTART;TZID=Europe/Rome:20231018T200000
DTEND;TZID=Europe/Rome:20231018T230000
DTSTAMP:20260421T000613
CREATED:20230831T102123Z
LAST-MODIFIED:20230831T103654Z
UID:115055-1697659200-1697670000@sanderen.com
SUMMARY:Pre-British a Senigallia
DESCRIPTION:Una serata dedicata al vino di Marsala in un luogo ricco di storia: l’ex pescheria del Foro Annonario di Senigallia. Per l’occasione proietteremo il nostro documentario Pre-British. Seguirà la degustazione di alcuni dei vini marsalesi più interessanti. Modera la serata Giorgio Fogliani\, autore del libro Il futuro di Marsala\, edito da Possibilia Editore. La serata è organizzata da Guido Galli di Galli Enoteca.
URL:https://sanderen.com/appuntamento/pre-british-a-senigallia/
LOCATION:Senigallia\, Foro Annonario\, Senigallia\, Ancona\, 60019\, Italia
CATEGORIES:Pre-British
ATTACH;FMTTYPE=image/jpeg:https://sanderen.com/wp-content/uploads/2022/02/image-scaled.jpeg
END:VEVENT
BEGIN:VEVENT
DTSTART;TZID=Europe/Rome:20231208T160000
DTEND;TZID=Europe/Rome:20231210T190000
DTSTAMP:20260421T000613
CREATED:20230831T102706Z
LAST-MODIFIED:20230831T103616Z
UID:115059-1702051200-1702234800@sanderen.com
SUMMARY:Teatro del Gusto\, Ischia
DESCRIPTION:Saremo a Ischia per tre proiezioni durante i tre giorni del festival Teatro del Gusto. Sarà presente Andrea Mignòlo. \nQuesto è il calendario delle proiezioni: \n8 dicembre: Pre-British\, il vino di Marsala oltre il Marsala \n9 dicembre: Le confessioni di un Naturalista\, Gastone Vio e la Dorona di Venezia. \n10 dicembre: Seccagno\, Michele Oliva\, Salina e i pomodori.
URL:https://sanderen.com/appuntamento/teatro-del-gusto-ischia/
LOCATION:Ischia
CATEGORIES:Pre-British,Le confessioni di un naturalista,Seccagno
ATTACH;FMTTYPE=image/png:https://sanderen.com/wp-content/uploads/2023/08/Screenshot-2023-08-31-at-12.26.21.png
END:VEVENT
BEGIN:VEVENT
DTSTART;TZID=Europe/Rome:20240227T153000
DTEND;TZID=Europe/Rome:20240227T170000
DTSTAMP:20260421T000613
CREATED:20240220T081332Z
LAST-MODIFIED:20240220T081512Z
UID:115165-1709047800-1709053200@sanderen.com
SUMMARY:Pre-British X VAF
DESCRIPTION:VAF (Vivendu Artigiani in Fiera) e Andrea Mignolo portano Pre-British a Soverato presso Lo stuzzichino. La proiezione del film sarà seguita dalla degustazione di quattro etichette Pre-British. \n 
URL:https://sanderen.com/appuntamento/pre-british-x-vaf/
LOCATION:Lo Stuzzichino\, Via Trento e Trieste\, Soverato\, Italia
CATEGORIES:Pre-British
ATTACH;FMTTYPE=image/jpeg:https://sanderen.com/wp-content/uploads/2022/02/image-scaled.jpeg
END:VEVENT
BEGIN:VEVENT
DTSTART;TZID=Europe/Rome:20240710T193000
DTEND;TZID=Europe/Rome:20240710T230000
DTSTAMP:20260421T000613
CREATED:20240704T160612Z
LAST-MODIFIED:20240704T162003Z
UID:115332-1720639800-1720652400@sanderen.com
SUMMARY:San Timorasso Alle Ortiche
DESCRIPTION:Una proiezione di San Timorasso Alle Ortiche\, Genova. \nIntervengono Alessandro Poretti di Valli Unite\, Andrea Tirelli e Andrea Mignolo. \nProgramma: \n➤ h. 19.30 | 7€ | Degustazione e incontro con l’Azienda Agricola Andrea Tirelli\, la Cooperativa Agricola Valli Unite e Andrea Mignolo autore del documentario. Prenotazione caldamente consigliata. (link in bio)\n➤ h 21.30 Inizio proiezione\n➤ Biglietto intero 5€ | Biglietto ridotto per under 14 3€\nIngresso riservato all3 soc3\, tessera 2024 in cassa o online al costo di 10€. Facendo la tessera la prima proiezione è a biglietto ridotto. \n 
URL:https://sanderen.com/appuntamento/san-timorasso-alle-ortiche/
LOCATION:Alle Ortiche\, Salita San Nicolò 34\, Genova\, GE\, 16153\, Italia
CATEGORIES:Pre-British,San Timorasso
ATTACH;FMTTYPE=image/png:https://sanderen.com/wp-content/uploads/2024/07/San-Timorasso-Alle-Ortiche.png
END:VEVENT
BEGIN:VEVENT
DTSTART;TZID=Europe/Rome:20241219T220000
DTEND;TZID=Europe/Rome:20241219T223000
DTSTAMP:20260421T000613
CREATED:20241031T091259Z
LAST-MODIFIED:20241031T091259Z
UID:130776-1734645600-1734647400@sanderen.com
SUMMARY:Pre-British X ONAV Milano
DESCRIPTION:Saremo ospiti della sezione milanese di ONAV per una proiezione con degustazione di Pre-British. \nSaranno presenti Andrea Mignòlo e Vincenzo Angileri. \nTerra di Sicilia e acini preziosi sin dal 1700: la DOC Marsala è una delle denominazioni più antiche e prestigiose del panorama vitivinicolo italiano e tra le più preziose e rinomate produzioni di vino liquoroso al mondo. In occasione dell’evento che sancisce la chiusura del palinsesto 2024\, la Sezione ONAV di Milano ha pensato ad una serata sui generis\, imperdibile e ricca di sorprese per fare a tutti i suoi soci i migliori auguri di Buon Natale e di un Felice 2025! Assisteremo alla proiezione di “PRE BRITISH: Il vino di Marsala oltre il Marsala”\, documentario dedicato al prezioso nettare dorato siciliano\, tanto amato dagli inglesi del XVIII secolo quanto meno considerato negli ultimi decenni. Grazie all’opera diretta e realizzata da Andrea Mignolo scopriremo uno straordinario spaccato di quello che sta succedendo a Marsala oggi\, tra fascino e realtà dimenticata.
URL:https://sanderen.com/appuntamento/pre-british-x-onav-milano/
LOCATION:Leonardo Hotel Milan City Center\, Via Messina 10\, Milano\, Milano\, 20154\, Italy
CATEGORIES:Pre-British
ATTACH;FMTTYPE=image/jpeg:https://sanderen.com/wp-content/uploads/2024/09/Pre-British_manifesto_2_FB_169-2-scaled.jpg
END:VEVENT
END:VCALENDAR