BEGIN:VCALENDAR
VERSION:2.0
PRODID:-//Sanderen - ECPv6.10.2//NONSGML v1.0//EN
CALSCALE:GREGORIAN
METHOD:PUBLISH
X-WR-CALNAME:Sanderen
X-ORIGINAL-URL:https://sanderen.com
X-WR-CALDESC:Eventi per Sanderen
REFRESH-INTERVAL;VALUE=DURATION:PT1H
X-Robots-Tag:noindex
X-PUBLISHED-TTL:PT1H
BEGIN:VTIMEZONE
TZID:Europe/Rome
BEGIN:DAYLIGHT
TZOFFSETFROM:+0100
TZOFFSETTO:+0200
TZNAME:CEST
DTSTART:20240331T010000
END:DAYLIGHT
BEGIN:STANDARD
TZOFFSETFROM:+0200
TZOFFSETTO:+0100
TZNAME:CET
DTSTART:20241027T010000
END:STANDARD
BEGIN:DAYLIGHT
TZOFFSETFROM:+0100
TZOFFSETTO:+0200
TZNAME:CEST
DTSTART:20250330T010000
END:DAYLIGHT
BEGIN:STANDARD
TZOFFSETFROM:+0200
TZOFFSETTO:+0100
TZNAME:CET
DTSTART:20251026T010000
END:STANDARD
END:VTIMEZONE
BEGIN:VEVENT
DTSTART;TZID=Europe/Rome:20250411T190000
DTEND;TZID=Europe/Rome:20250411T203000
DTSTAMP:20260420T162135
CREATED:20250407T065831Z
LAST-MODIFIED:20250407T070014Z
UID:130820-1744398000-1744403400@sanderen.com
SUMMARY:L'annata a Casperia per "I Scagni"
DESCRIPTION:Proiezione del documentario L’annata al teatro comunale di Casperia in occasione della manifestazione “I scagni”\, incontri per agricoluture e territori resistenti. Evento in collaborazione con il “Festival delle terre”. L’11\, 12 e 13 aprile a Casperia (Rieti) terza tappa della Carovana Contadina dal titolo “Incontri per agricolture e territori resistenti” organizzata da Crocevia\, Sabina No Tea No Ogm\, La Panchovilla e con il patrocinio del Comune di Casperia.
URL:https://sanderen.com/appuntamento/lannata-a-casperia-per-i-scagni/
LOCATION:Teatro Comunale\, 02041 Casperia\, Province of Rieti\, Casperia\, Rieti\, Italy
CATEGORIES:L'annata
ATTACH;FMTTYPE=image/jpeg:https://sanderen.com/wp-content/uploads/2024/04/Lannata_documentario_Andrea_Mignolo_1.jpg
END:VEVENT
BEGIN:VEVENT
DTSTART;TZID=Europe/Rome:20241217T173000
DTEND;TZID=Europe/Rome:20241217T183000
DTSTAMP:20260420T162135
CREATED:20241031T090844Z
LAST-MODIFIED:20241031T090844Z
UID:130772-1734456600-1734460200@sanderen.com
SUMMARY:L'Annata alla Casa del cinema di Venezia
DESCRIPTION:Una proiezione del nostro documentario L’Annata alla Casa del Cinema di Venezia. \nIl VideoConcorso Francesco Pasinetti presenta\, fuori concorso\, nella sezione “Venezia una città” il film di Andrea Mignolo\, L’annata. \nIntervengono: Andrea Mignolo (regista)\, Renzo D’Antonia (presidente Associazione “Laguna nel bicchiere – Le vigne ritrovate”)\, Vanna Purisiol (vicepresidente Associazione “Laguna\nnel bicchiere – Le vigne ritrovate”)\, Giovanni Andrea Martini (VideoConcorso “Francesco Pasinetti”)
URL:https://sanderen.com/appuntamento/lannata-alla-casa-del-cinema-di-venezia/
LOCATION:Casa del cinema\, Salizada San Stae\, 1990\, Venezia\, Venezia\, 30135\, Italy
CATEGORIES:L'annata
ATTACH;FMTTYPE=image/jpeg:https://sanderen.com/wp-content/uploads/2024/04/Lannata_documentario_Andrea_Mignolo_1.jpg
END:VEVENT
BEGIN:VEVENT
DTSTART;TZID=Europe/Rome:20241109T200000
DTEND;TZID=Europe/Rome:20241109T210000
DTSTAMP:20260420T162135
CREATED:20241031T090107Z
LAST-MODIFIED:20241031T090107Z
UID:130764-1731182400-1731186000@sanderen.com
SUMMARY:L'Annata al Most Wine Film Festival
DESCRIPTION:Il nostro documentario L’Annata è stato selezionato per la tredicesima edizione dell Most Wine International Film Festival.\nSarà presente il regista Andrea Mignòlo.
URL:https://sanderen.com/appuntamento/lannata-al-most-wine-film-festival/
LOCATION:Vilafranca del Penedès\, Plaça Jaume I\, 1\, Plaça Jaume I\, 1\, Barcelona\, 08720\, Spain
CATEGORIES:L'annata
ATTACH;FMTTYPE=image/png:https://sanderen.com/wp-content/uploads/2024/10/Screenshot-2024-10-31-at-10.00.18.png
END:VEVENT
BEGIN:VEVENT
DTSTART;TZID=Europe/Rome:20240423T190000
DTEND;TZID=Europe/Rome:20240423T203000
DTSTAMP:20260420T162135
CREATED:20240408T160906Z
LAST-MODIFIED:20240408T162608Z
UID:115248-1713898800-1713904200@sanderen.com
SUMMARY:L'annata - anteprima
DESCRIPTION:Anteprima del nostro film documentario “L’annata\, la ballata dei vignaioli di laguna”. \nSaranno presenti il regista Andrea Mignòlo e molti dei soci di Laguna nel bicchiere. \nLa storia \nA Venezia una comunità si ritrova a fare vino per prendersi cura di un ambiente sempre più fragile\, ma nel corso dell’annata intoppi burocratici\, eventi climatici e altre peripezie metteranno a rischio tutto\, anche la sua stessa esistenza. 
URL:https://sanderen.com/appuntamento/lannata-anteprima/
LOCATION:Cinema Rossini\, Venezia\, Salizzada de la Chiesa o del Teatro\, Venezia\, 30124\, Italia
CATEGORIES:L'annata
ATTACH;FMTTYPE=image/jpeg:https://sanderen.com/wp-content/uploads/2024/04/Lannata_23_aprile.jpg
END:VEVENT
END:VCALENDAR